BEGIN:VCALENDAR
VERSION:2.0
PRODID:SchoolNow
CALSCALE:GREGORIAN
BEGIN:VEVENT
UID:3334b484-7d09-11f0-96d3-0a58a9feac02
DTSTAMP:20250819T143250Z
SUMMARY:CDD Workshop - May 2026
LOCATION:Club at Eaglebrooke\, 1300 Eaglebrooke Boulevard\, Lakeland\, Flor
 ida 33813
URL;VALUE=URI:https://www.goldenlakescdd.org/calendar/8521474/cdd-meeting-m
 ay-2026
DTSTART:20260505T213000Z
DTEND:20260505T223000Z
END:VEVENT
END:VCALENDAR
