BEGIN:VCALENDAR
VERSION:2.0
PRODID:SchoolNow
CALSCALE:GREGORIAN
BEGIN:VEVENT
UID:ff6a510e-7d08-11f0-9315-0a58a9feac02
DTSTAMP:20260224T215200Z
SUMMARY:CDD Workshop - Mar. 2026
LOCATION:Club at Eaglebrooke\, 1300 Eaglebrooke Boulevard\, Lakeland\, Flor
 ida 33813
URL;VALUE=URI:https://www.goldenlakescdd.org/calendar/8521471/cdd-workshop-
 mar-2026
DTSTART:20260303T223000Z
DTEND:20260303T233000Z
ATTACH;FILENAME=2026-03-03 Golden Lakes CDD Workshop Agenda.pdf;FMTTYPE=app
 lication/pdf:https://campussuite-storage.s3.amazonaws.com/prod/1558938/147
 df8ec-f052-11e9-88af-12606da399aa/3073982/098b7a8a-11cb-11f1-a6aa-0e2a2a43
 3083/file/2026-03-03 Golden Lakes CDD Workshop Agenda.pdf
END:VEVENT
END:VCALENDAR
