BEGIN:VCALENDAR
VERSION:2.0
PRODID:SchoolNow
CALSCALE:GREGORIAN
BEGIN:VEVENT
UID:f05599a8-7d08-11f0-a408-0a58a9feac02
DTSTAMP:20260127T200215Z
SUMMARY:CDD Meeting - Feb. 2025
LOCATION:Club at Eaglebrooke\, 1300 Eaglebrooke Boulevard\, Lakeland\, Flor
 ida 33813
URL;VALUE=URI:https://www.goldenlakescdd.org/calendar/8521469/cdd-meeting-f
 eb-2025
DTSTART:20260203T223000Z
DTEND:20260203T233000Z
ATTACH;FILENAME=2026-02-03 Golden Lakes CDD Final Agenda.pdf;FMTTYPE=applic
 ation/pdf:https://campussuite-storage.s3.amazonaws.com/prod/1558938/147df8
 ec-f052-11e9-88af-12606da399aa/3064484/0fb32532-fbbb-11f0-ba16-0a58a9feac0
 2/file/2026-02-03 Golden Lakes CDD Final Agenda.pdf
END:VEVENT
END:VCALENDAR
