BEGIN:VCALENDAR
VERSION:2.0
PRODID:SchoolNow
CALSCALE:GREGORIAN
BEGIN:VEVENT
UID:840f60aa-5e5d-11ef-9b66-0a58a9feac02
DTSTAMP:20241202T214432Z
SUMMARY:CDD Meeting - Dec. 2024
LOCATION:Club at Eaglebrooke\, 1300 Eaglebrooke Boulevard\, Lakeland\, Flor
 ida 33813. Call in (audio only)  +1 646-838-1601 Phone Conference ID 63012
 6752#
URL;VALUE=URI:https://www.goldenlakescdd.org/calendar/6426617/cdd-meeting-d
 ec-2024
DTSTART:20241203T223000Z
DTEND:20241203T233000Z
ATTACH;FILENAME=2024-12-03 - Golden Lakes CDD - Revised Final Agenda.pdf;FM
 TTYPE=application/pdf:https://campussuite-storage.s3.amazonaws.com/prod/15
 58938/147df8ec-f052-11e9-88af-12606da399aa/2886175/98de40c8-b0f6-11ef-8316
 -0affe4db5785/file/2024-12-03 - Golden Lakes CDD - Revised Final Agenda.pd
 f
END:VEVENT
END:VCALENDAR
