BEGIN:VCALENDAR
VERSION:2.0
PRODID:SchoolNow
CALSCALE:GREGORIAN
BEGIN:VEVENT
UID:a33410a6-5e54-11ef-9da3-0a58a9feac02
DTSTAMP:20250731T191031Z
SUMMARY:CDD Meeting - Aug. 2025
LOCATION:Club at Eaglebrooke\, 1300 Eaglebrooke Boulevard\, Lakeland\, Flor
 ida 33813. Call in (audio only)  +1 646-838-1601 Phone Conference ID 63012
 6752#
URL;VALUE=URI:https://www.goldenlakescdd.org/calendar/6426589/cdd-meeting-a
 ug-2024
DTSTART:20250805T213000Z
DTEND:20250805T223000Z
ATTACH;FILENAME=2025-08-05 Golden Lakes CDD Revised Final Agenda Package.pd
 f;FMTTYPE=application/pdf:https://campussuite-storage.s3.amazonaws.com/pro
 d/1558938/147df8ec-f052-11e9-88af-12606da399aa/2987694/03e306a2-6e42-11f0-
 930c-0a58a9feac02/file/2025-08-05 Golden Lakes CDD Revised Final Agenda Pa
 ckage.pdf
END:VEVENT
END:VCALENDAR
