BEGIN:VCALENDAR
VERSION:2.0
PRODID:SchoolNow
CALSCALE:GREGORIAN
BEGIN:VEVENT
UID:9575619a-5e54-11ef-a3c2-0a58a9feac02
DTSTAMP:20250527T195613Z
SUMMARY:CDD Meeting - Jun. 2025
LOCATION:Club at Eaglebrooke\, 1300 Eaglebrooke Boulevard\, Lakeland\, Flor
 ida 33813. Call in (audio only)  +1 646-838-1601 Phone Conference ID 63012
 6752#
URL;VALUE=URI:https://www.goldenlakescdd.org/calendar/6426588/cdd-meeting-j
 un-2025
DTSTART:20250603T213000Z
DTEND:20250603T223000Z
ATTACH;FILENAME=2025-06-03 Golden Lakes CDD Final Agenda Package.pdf;FMTTYP
 E=application/pdf:https://campussuite-storage.s3.amazonaws.com/prod/155893
 8/147df8ec-f052-11e9-88af-12606da399aa/2960531/a0380aac-3b34-11f0-b92e-0a5
 8a9feac02/file/2025-06-03 Golden Lakes CDD Final Agenda Package.pdf
END:VEVENT
END:VCALENDAR
