BEGIN:VCALENDAR
VERSION:2.0
PRODID:SchoolNow
CALSCALE:GREGORIAN
BEGIN:VEVENT
UID:88b70e9a-5e54-11ef-b49b-025ca606836b
DTSTAMP:20250325T191944Z
SUMMARY:CDD Meeting - Apr. 2025
LOCATION:Club at Eaglebrooke\, 1300 Eaglebrooke Boulevard\, Lakeland\, Flor
 ida 33813. Call in (audio only)  +1 646-838-1601 Phone Conference ID 63012
 6752#
URL;VALUE=URI:https://www.goldenlakescdd.org/calendar/6426587/cdd-meeting-a
 pr-2025
DTSTART:20250401T213000Z
DTEND:20250401T223000Z
ATTACH;FILENAME=2025-04-01 Golden Lakes Final Agenda Package.pdf;FMTTYPE=ap
 plication/pdf:https://campussuite-storage.s3.amazonaws.com/prod/1558938/14
 7df8ec-f052-11e9-88af-12606da399aa/2932356/1740a02c-09ae-11f0-9825-0a58a9f
 eac02/file/2025-04-01 Golden Lakes Final Agenda Package.pdf
END:VEVENT
END:VCALENDAR
