BEGIN:VCALENDAR
VERSION:2.0
PRODID:SchoolNow
CALSCALE:GREGORIAN
BEGIN:VEVENT
UID:7db82bb4-5e54-11ef-b1e9-0affc7e3d4ab
DTSTAMP:20250203T140059Z
SUMMARY:CDD Meeting - Feb. 2025
LOCATION:Club at Eaglebrooke\, 1300 Eaglebrooke Boulevard\, Lakeland\, Flor
 ida 33813. Call in (audio only)  +1 646-838-1601 Phone Conference ID 63012
 6752#
URL;VALUE=URI:https://www.goldenlakescdd.org/calendar/6426586/cdd-meeting-f
 eb-2025
DTSTART:20250204T223000Z
DTEND:20250204T233000Z
ATTACH;FILENAME=2025-02-04 Golden Lakes CDD Revised Final Agenda Package.pd
 f;FMTTYPE=application/pdf:https://campussuite-storage.s3.amazonaws.com/pro
 d/1558938/147df8ec-f052-11e9-88af-12606da399aa/2910382/4433a0e6-e237-11ef-
 aa23-0a58a9feac02/file/2025-02-04 Golden Lakes CDD Revised Final Agenda Pa
 ckage.pdf
END:VEVENT
END:VCALENDAR
