BEGIN:VCALENDAR
VERSION:2.0
PRODID:SchoolNow
CALSCALE:GREGORIAN
BEGIN:VEVENT
UID:702ed524-5e54-11ef-9ac4-0a58a9feac02
DTSTAMP:20240925T100758Z
SUMMARY:CDD Meeting - Oct. 2024
LOCATION:Club at Eaglebrooke\, 1300 Eaglebrooke Boulevard\, Lakeland\, Flor
 ida 33813. Call in (audio only)  +1 646-838-1601 Phone Conference ID 63012
 6752#
URL;VALUE=URI:https://www.goldenlakescdd.org/calendar/6426585/cdd-meeting-o
 ct-2024
DTSTART:20241001T213000Z
DTEND:20241001T223000Z
ATTACH;FILENAME=2024-10-01 - Golden Lakes CDD - Final Agenda.pdf;FMTTYPE=ap
 plication/pdf:https://campussuite-storage.s3.amazonaws.com/prod/1558938/14
 7df8ec-f052-11e9-88af-12606da399aa/2852650/02dcbb8c-7b26-11ef-9337-02d15b5
 6a1e3/file/2024-10-01 - Golden Lakes CDD - Final Agenda.pdf
END:VEVENT
END:VCALENDAR
