BEGIN:VCALENDAR
VERSION:2.0
PRODID:SchoolNow
CALSCALE:GREGORIAN
BEGIN:VEVENT
UID:555f3478-5e54-11ef-936f-0a58a9feac02
DTSTAMP:20250429T204728Z
SUMMARY:CDD Workshop - May 2025
LOCATION:Club at Eaglebrooke\, 1300 Eaglebrooke Boulevard\, Lakeland\, Flor
 ida 33813
URL;VALUE=URI:https://www.goldenlakescdd.org/calendar/6426583/cdd-workshop-
 may-2025
DTSTART:20250506T213000Z
DTEND:20250506T223000Z
ATTACH;FILENAME=2025-05-06 Golden Lakes Agenda Package.pdf;FMTTYPE=applicat
 ion/pdf:https://campussuite-storage.s3.amazonaws.com/prod/1558938/147df8ec
 -f052-11e9-88af-12606da399aa/2946776/26c1e594-253b-11f0-a2af-0ed6f4100cbf/
 file/2025-05-06 Golden Lakes Agenda Package.pdf
END:VEVENT
END:VCALENDAR
