BEGIN:VCALENDAR
VERSION:2.0
PRODID:SchoolNow
CALSCALE:GREGORIAN
BEGIN:VEVENT
UID:4a84042a-5e54-11ef-b45d-020e5ca96677
DTSTAMP:20250224T134437Z
SUMMARY:CDD Workshop - Mar. 2025
LOCATION:Club at Eaglebrooke\, 1300 Eaglebrooke Boulevard\, Lakeland\, Flor
 ida 33813
URL;VALUE=URI:https://www.goldenlakescdd.org/calendar/6426582/cdd-workshop-
 mar-2025
DTSTART:20250304T223000Z
DTEND:20250304T233000Z
ATTACH;FILENAME=2025-03-04 Golden Lakes Workshop Agenda Package.pdf;FMTTYPE
 =application/pdf:https://campussuite-storage.s3.amazonaws.com/prod/1558938
 /147df8ec-f052-11e9-88af-12606da399aa/2918630/7b18b07c-f2b5-11ef-a000-0a58
 a9feac02/file/2025-03-04 Golden Lakes Workshop Agenda Package.pdf
END:VEVENT
END:VCALENDAR
